BEGIN:VCALENDAR
VERSION:2.0
PRODID:-//eventon.com NONSGML v1.0//EN
CALSCALE:GREGORIAN
METHOD:PUBLISH
BEGIN:VEVENT
UID:69e6345d5f2d4
DTSTAMP:20260420T141245Z
DTSTART:20260516T230000Z
DTEND:20260517T050000Z
LOCATION:
SUMMARY:BLC (destination TBA) - May 2026
DESCRIPTION:Trip Dates: 17 May 2026 Destination: TBA Meeting point: TBA Tri
 p Leader &#8211; Seeking a trip leaader We are seeking a member to nominate
  as a trip leader and to advise a destination for our regular Breakfast\,  
 Lies &amp; Coffee trip.\nhttps://lrc.org.au/events/blc-destination-tba-may-
 2026/
URL:https://lrc.org.au/events/blc-destination-tba-may-2026/
END:VEVENT
END:VCALENDAR